BEGIN:VCALENDAR
VERSION:2.0
PRODID:-//Solomon Islands Tourism - ECPv5.3.1.1//NONSGML v1.0//EN
CALSCALE:GREGORIAN
METHOD:PUBLISH
X-WR-CALNAME:Solomon Islands Tourism
X-ORIGINAL-URL:https://tourismsolomons.com
X-WR-CALDESC:Events for Solomon Islands Tourism
BEGIN:VTIMEZONE
TZID:Pacific/Auckland
BEGIN:STANDARD
TZOFFSETFROM:+1300
TZOFFSETTO:+1200
TZNAME:NZST
DTSTART:20180331T140000
END:STANDARD
BEGIN:DAYLIGHT
TZOFFSETFROM:+1200
TZOFFSETTO:+1300
TZNAME:NZDT
DTSTART:20180929T140000
END:DAYLIGHT
END:VTIMEZONE
BEGIN:VEVENT
DTSTART;VALUE=DATE:20180807
DTEND;VALUE=DATE:20180808
DTSTAMP:20260421T151428
CREATED:20181108T200515Z
LAST-MODIFIED:20181115T025955Z
UID:105-1533600000-1533686399@tourismsolomons.com
SUMMARY:WWII Commemoration
DESCRIPTION:Solomon Islands gift to the world is Freedom! Remembering the Solomon Islands coast watchers that helped Americans stop Japan from invading the Pacific that led to Freedom – on this land Guadalcanal! 76 years on\, the country will commemorate those who lost their lives during the battle.
URL:https://tourismsolomons.com/event/wwii-commemoration/
LOCATION:Honiara\, Honiara\, Central\, Solomon Islands
CATEGORIES:World War II
ATTACH;FMTTYPE=image/jpeg:https://tourismsolomons.com/wp-content/uploads/2018/11/WWII-Commemoration.jpg
ORGANIZER;CN="Nelson%20Manepura":MAILTO:nelson.manepura@tourismsolomons.com.sb
END:VEVENT
END:VCALENDAR