BEGIN:VCALENDAR
VERSION:2.0
PRODID:-//Solomon Islands Tourism - ECPv5.3.1.1//NONSGML v1.0//EN
CALSCALE:GREGORIAN
METHOD:PUBLISH
X-WR-CALNAME:Solomon Islands Tourism
X-ORIGINAL-URL:https://tourismsolomons.com
X-WR-CALDESC:Events for Solomon Islands Tourism
BEGIN:VTIMEZONE
TZID:Pacific/Auckland
BEGIN:STANDARD
TZOFFSETFROM:+1300
TZOFFSETTO:+1200
TZNAME:NZST
DTSTART:20180331T140000
END:STANDARD
BEGIN:DAYLIGHT
TZOFFSETFROM:+1200
TZOFFSETTO:+1300
TZNAME:NZDT
DTSTART:20180929T140000
END:DAYLIGHT
END:VTIMEZONE
BEGIN:VEVENT
DTSTART;VALUE=DATE:20180705
DTEND;VALUE=DATE:20180706
DTSTAMP:20260423T151644
CREATED:20181108T200134Z
LAST-MODIFIED:20181108T202907Z
UID:99-1530748800-1530835199@tourismsolomons.com
SUMMARY:Mi Save Solo Trade Mart
DESCRIPTION:The Solomon Islands Visitors Bureau is now gearing up towards its very own annual event the “MI SAVE Solomon Islands Tourism Exchange” in July. This is your golden opportunity to explore lucrative business partnerships\, connecting your business with the right buyers to discuss business and explore new collaboration opportunities! This year we’ll be hosting 28 buyers from Australia & NZ\, North America\, Asia and PNG.
URL:https://tourismsolomons.com/event/mi-save-solo-trade-mart/
LOCATION:Honiara\, Honiara\, Central\, Solomon Islands
CATEGORIES:Trade Mart
ORGANIZER;CN="Freda%20Unusi":MAILTO:freda.unusi@tourismsolomons.com.sb
END:VEVENT
END:VCALENDAR